BEGIN:VCALENDAR
VERSION:2.0
PRODID:-//The United Bird Societies of South Australia Incorporated - ECPv5.3.2.1//NONSGML v1.0//EN
CALSCALE:GREGORIAN
METHOD:PUBLISH
X-WR-CALNAME:The United Bird Societies of South Australia Incorporated
X-ORIGINAL-URL:https://unitedbirds.asn.au
X-WR-CALDESC:Events for The United Bird Societies of South Australia Incorporated
BEGIN:VTIMEZONE
TZID:Australia/Adelaide
BEGIN:STANDARD
TZOFFSETFROM:+1030
TZOFFSETTO:+0930
TZNAME:ACST
DTSTART:20210403T163000
END:STANDARD
BEGIN:DAYLIGHT
TZOFFSETFROM:+0930
TZOFFSETTO:+1030
TZNAME:ACDT
DTSTART:20211002T163000
END:DAYLIGHT
END:VTIMEZONE
BEGIN:VEVENT
DTSTART;VALUE=DATE:20210411
DTEND;VALUE=DATE:20210412
DTSTAMP:20210224T204228
CREATED:20210218T041033Z
LAST-MODIFIED:20210218T041033Z
UID:5845-1618099200-1618185599@unitedbirds.asn.au
SUMMARY:Gawler & Districts Bird Expo
DESCRIPTION:
URL:https://unitedbirds.asn.au/event/gawler-districts-bird-expo/
LOCATION:Gawler Racecourse Pavilion\, Barnett Road\, Evanston\, South Australia\, 5116\, Australia
END:VEVENT
BEGIN:VEVENT
DTSTART;VALUE=DATE:20210418
DTEND;VALUE=DATE:20210419
DTSTAMP:20210224T204228
CREATED:20210218T221159Z
LAST-MODIFIED:20210218T221159Z
UID:5855-1618704000-1618790399@unitedbirds.asn.au
SUMMARY:Lower Murray Bird Club Bird Sale
DESCRIPTION:
URL:https://unitedbirds.asn.au/event/lower-murray-bird-club-bird-sale/
LOCATION:Murray Bridge Showgrounds\, Murray Bridge\, South Australia\, 5700\, Australia
END:VEVENT
BEGIN:VEVENT
DTSTART;VALUE=DATE:20210530
DTEND;VALUE=DATE:20210531
DTSTAMP:20210224T204228
CREATED:20210218T041101Z
LAST-MODIFIED:20210218T041101Z
UID:5847-1622332800-1622419199@unitedbirds.asn.au
SUMMARY:Port Pirie/Port Augusta Bird Expo
DESCRIPTION:
URL:https://unitedbirds.asn.au/event/port-pirie-port-augusta-bird-expo/
LOCATION:Port Pirie Basketball Stadium\, Grey Terrace\, Port Pirie\, South Australia\, 5600\, Australia
END:VEVENT
BEGIN:VEVENT
DTSTART;VALUE=DATE:20210627
DTEND;VALUE=DATE:20210628
DTSTAMP:20210224T204228
CREATED:20210218T041126Z
LAST-MODIFIED:20210218T041126Z
UID:5849-1624752000-1624838399@unitedbirds.asn.au
SUMMARY:Riverland Birdkeepers Bird Expo
DESCRIPTION:
URL:https://unitedbirds.asn.au/event/riverland-birdkeepers-bird-expo/
LOCATION:Riverland Field Day Site\, Sturt Highway\, Barmera\, South Australia\, Australia
END:VEVENT
BEGIN:VEVENT
DTSTART;VALUE=DATE:20210725
DTEND;VALUE=DATE:20210726
DTSTAMP:20210224T204228
CREATED:20210218T041219Z
LAST-MODIFIED:20210218T041219Z
UID:5853-1627171200-1627257599@unitedbirds.asn.au
SUMMARY:United Bird Societies of South Australia  Seminar 2021
DESCRIPTION:
URL:https://unitedbirds.asn.au/event/united-bird-societies-of-south-australia-seminar-2021/
LOCATION:Sfera’s Park Suites & Convention Centre\, 191 Reservoir Rd\, Modbury\, South Australia\, 5091\, Australia
END:VEVENT
BEGIN:VEVENT
DTSTART;VALUE=DATE:20210808
DTEND;VALUE=DATE:20210809
DTSTAMP:20210224T204228
CREATED:20210218T041152Z
LAST-MODIFIED:20210218T041152Z
UID:5851-1628380800-1628467199@unitedbirds.asn.au
SUMMARY:Avicultural Society of South Australia Bird Expo
DESCRIPTION:
URL:https://unitedbirds.asn.au/event/avicultural-society-of-south-australia-bird-expo/
LOCATION:St. Pauls College\, Cnr. Grand Junction Road & Black Road\, Gilles Plains\, South Australia\, Australia
END:VEVENT
END:VCALENDAR